Package: ModCon Version: 1.8.0 Command: F:\biocbuild\bbs-3.17-bioc\R\bin\R.exe CMD check --no-multiarch --install=check:ModCon.install-out.txt --library=F:\biocbuild\bbs-3.17-bioc\R\library --no-vignettes --timings ModCon_1.8.0.tar.gz StartedAt: 2023-10-16 04:16:34 -0400 (Mon, 16 Oct 2023) EndedAt: 2023-10-16 04:20:50 -0400 (Mon, 16 Oct 2023) EllapsedTime: 256.1 seconds RetCode: 0 Status: OK CheckDir: ModCon.Rcheck Warnings: 0