Package: MiChip Version: 1.54.0 Command: chmod a+r MiChip -R && F:\biocbuild\bbs-3.17-bioc\R\bin\R.exe CMD build --keep-empty-dirs --no-resave-data MiChip StartedAt: 2023-10-15 20:25:43 -0400 (Sun, 15 Oct 2023) EndedAt: 2023-10-15 20:25:58 -0400 (Sun, 15 Oct 2023) EllapsedTime: 15.8 seconds RetCode: 0 Status: OK PackageFile: MiChip_1.54.0.tar.gz PackageFileSize: 539.9 KiB