Package: MiChip Version: 1.54.0 Command: /Library/Frameworks/R.framework/Resources/bin/R CMD check --install=check:MiChip.install-out.txt --library=/Library/Frameworks/R.framework/Resources/library --no-vignettes --timings MiChip_1.54.0.tar.gz StartedAt: 2023-10-16 03:51:55 -0400 (Mon, 16 Oct 2023) EndedAt: 2023-10-16 03:52:59 -0400 (Mon, 16 Oct 2023) EllapsedTime: 64.0 seconds RetCode: 0 Status: OK CheckDir: MiChip.Rcheck Warnings: 0