Package: MiChip Version: 1.54.0 Command: /Library/Frameworks/R.framework/Resources/bin/R CMD build --keep-empty-dirs --no-resave-data MiChip StartedAt: 2023-10-15 19:29:06 -0400 (Sun, 15 Oct 2023) EndedAt: 2023-10-15 19:29:35 -0400 (Sun, 15 Oct 2023) EllapsedTime: 28.8 seconds RetCode: 0 Status: OK PackageFile: MiChip_1.54.0.tar.gz PackageFileSize: 650.9 KiB