Package: MiChip Version: 1.54.0 Command: rm -rf MiChip.buildbin-libdir && mkdir MiChip.buildbin-libdir && /Users/biocbuild/BBS/utils/build-universal.sh MiChip_1.54.0.tar.gz /Library/Frameworks/R.framework/Resources/bin/R MiChip.buildbin-libdir StartedAt: 2023-10-16 09:43:18 -0400 (Mon, 16 Oct 2023) EndedAt: 2023-10-16 09:43:30 -0400 (Mon, 16 Oct 2023) EllapsedTime: 11.8 seconds RetCode: 0 Status: OK PackageFile: MiChip_1.54.0.tgz PackageFileSize: 699.7 KiB