Package: MethylSeekR Version: 1.40.0 Command: /home/biocbuild/bbs-3.17-bioc/R/bin/R CMD INSTALL MethylSeekR StartedAt: 2023-10-15 15:20:56 -0400 (Sun, 15 Oct 2023) EndedAt: 2023-10-15 15:21:25 -0400 (Sun, 15 Oct 2023) EllapsedTime: 28.7 seconds RetCode: 0 Status: OK