Package: MethylSeekR Version: 1.40.0 Command: /home/biocbuild/bbs-3.17-bioc/R/bin/R CMD build --keep-empty-dirs --no-resave-data MethylSeekR StartedAt: 2023-10-15 17:25:02 -0400 (Sun, 15 Oct 2023) EndedAt: 2023-10-15 17:26:39 -0400 (Sun, 15 Oct 2023) EllapsedTime: 96.9 seconds RetCode: 0 Status: OK PackageFile: MethylSeekR_1.40.0.tar.gz PackageFileSize: 1.594 MiB