Package: MethylSeekR Version: 1.40.0 Command: /Library/Frameworks/R.framework/Resources/bin/R CMD build --keep-empty-dirs --no-resave-data MethylSeekR StartedAt: 2023-10-15 19:26:44 -0400 (Sun, 15 Oct 2023) EndedAt: 2023-10-15 19:30:31 -0400 (Sun, 15 Oct 2023) EllapsedTime: 227.0 seconds RetCode: 0 Status: OK PackageFile: MethylSeekR_1.40.0.tar.gz PackageFileSize: 1.594 MiB