Package: MetaboSignal Version: 1.30.3 Command: /Library/Frameworks/R.framework/Resources/bin/R CMD INSTALL MetaboSignal StartedAt: 2023-10-15 16:31:56 -0400 (Sun, 15 Oct 2023) EndedAt: 2023-10-15 16:34:45 -0400 (Sun, 15 Oct 2023) EllapsedTime: 169.6 seconds RetCode: 0 Status: OK