Package: MetaCyto Version: 1.22.0 Command: /home/biocbuild/bbs-3.17-bioc/R/bin/R CMD check --install=check:MetaCyto.install-out.txt --library=/home/biocbuild/bbs-3.17-bioc/R/site-library --timings MetaCyto_1.22.0.tar.gz StartedAt: 2023-10-15 22:38:16 -0400 (Sun, 15 Oct 2023) EndedAt: 2023-10-15 22:46:52 -0400 (Sun, 15 Oct 2023) EllapsedTime: 515.8 seconds RetCode: 0 Status: OK CheckDir: MetaCyto.Rcheck Warnings: 0