Package: MetaCyto Version: 1.22.0 Command: /home/biocbuild/bbs-3.17-bioc/R/bin/R CMD build --keep-empty-dirs --no-resave-data MetaCyto StartedAt: 2023-10-15 17:21:40 -0400 (Sun, 15 Oct 2023) EndedAt: 2023-10-15 17:25:02 -0400 (Sun, 15 Oct 2023) EllapsedTime: 201.7 seconds RetCode: 0 Status: OK PackageFile: MetaCyto_1.22.0.tar.gz PackageFileSize: 971.9 KiB