Package: MetNet Version: 1.18.0 Command: /Library/Frameworks/R.framework/Resources/bin/R CMD build --keep-empty-dirs --no-resave-data MetNet StartedAt: 2023-10-15 19:28:21 -0400 (Sun, 15 Oct 2023) EndedAt: 2023-10-15 19:30:08 -0400 (Sun, 15 Oct 2023) EllapsedTime: 107.0 seconds RetCode: 0 Status: OK PackageFile: MetNet_1.18.0.tar.gz PackageFileSize: 4.067 MiB