Package: MetNet Version: 1.18.0 Command: rm -rf MetNet.buildbin-libdir && mkdir MetNet.buildbin-libdir && /Users/biocbuild/BBS/utils/build-universal.sh MetNet_1.18.0.tar.gz /Library/Frameworks/R.framework/Resources/bin/R MetNet.buildbin-libdir StartedAt: 2023-10-16 09:42:54 -0400 (Mon, 16 Oct 2023) EndedAt: 2023-10-16 09:44:22 -0400 (Mon, 16 Oct 2023) EllapsedTime: 87.3 seconds RetCode: 0 Status: OK PackageFile: MetNet_1.18.0.tgz PackageFileSize: 4.305 MiB