Package: MetID Version: 1.18.0 Command: /home/biocbuild/bbs-3.17-bioc/R/bin/R CMD check --install=check:MetID.install-out.txt --library=/home/biocbuild/bbs-3.17-bioc/R/site-library --timings MetID_1.18.0.tar.gz StartedAt: 2023-10-15 22:45:29 -0400 (Sun, 15 Oct 2023) EndedAt: 2023-10-15 22:47:12 -0400 (Sun, 15 Oct 2023) EllapsedTime: 103.6 seconds RetCode: 0 Status: OK CheckDir: MetID.Rcheck Warnings: 0