Package: MesKit Version: 1.10.0 Command: rm -rf MesKit.buildbin-libdir && mkdir MesKit.buildbin-libdir && /Users/biocbuild/BBS/utils/build-universal.sh MesKit_1.10.0.tar.gz /Library/Frameworks/R.framework/Resources/bin/R MesKit.buildbin-libdir StartedAt: 2023-10-16 09:41:28 -0400 (Mon, 16 Oct 2023) EndedAt: 2023-10-16 09:42:54 -0400 (Mon, 16 Oct 2023) EllapsedTime: 86.1 seconds RetCode: 0 Status: OK PackageFile: MesKit_1.10.0.tgz PackageFileSize: 3.804 MiB