Package: MeasurementError.cor Version: 1.72.0 Command: /Library/Frameworks/R.framework/Resources/bin/R CMD build --keep-empty-dirs --no-resave-data MeasurementError.cor StartedAt: 2023-10-15 19:18:24 -0400 (Sun, 15 Oct 2023) EndedAt: 2023-10-15 19:18:44 -0400 (Sun, 15 Oct 2023) EllapsedTime: 19.2 seconds RetCode: 0 Status: OK PackageFile: MeasurementError.cor_1.72.0.tar.gz PackageFileSize: 150.8 KiB