Package: MatrixQCvis Version: 1.8.0 Command: rm -rf MatrixQCvis.buildbin-libdir && mkdir MatrixQCvis.buildbin-libdir && F:\biocbuild\bbs-3.17-bioc\R\bin\R.exe CMD INSTALL --build --library=MatrixQCvis.buildbin-libdir MatrixQCvis_1.8.0.tar.gz StartedAt: 2023-10-16 09:02:12 -0400 (Mon, 16 Oct 2023) EndedAt: 2023-10-16 09:03:00 -0400 (Mon, 16 Oct 2023) EllapsedTime: 47.6 seconds RetCode: 0 Status: OK PackageFile: MatrixQCvis_1.8.0.zip PackageFileSize: 4.246 MiB