Package: MatrixQCvis Version: 1.8.0 Command: /Library/Frameworks/R.framework/Resources/bin/R CMD INSTALL MatrixQCvis StartedAt: 2023-10-15 16:31:51 -0400 (Sun, 15 Oct 2023) EndedAt: 2023-10-15 16:33:46 -0400 (Sun, 15 Oct 2023) EllapsedTime: 114.4 seconds RetCode: 0 Status: OK