Package: MatrixGenerics Version: 1.12.3 Command: rm -rf MatrixGenerics.buildbin-libdir && mkdir MatrixGenerics.buildbin-libdir && F:\biocbuild\bbs-3.17-bioc\R\bin\R.exe CMD INSTALL --build --library=MatrixGenerics.buildbin-libdir MatrixGenerics_1.12.3.tar.gz StartedAt: 2023-10-16 09:02:10 -0400 (Mon, 16 Oct 2023) EndedAt: 2023-10-16 09:02:31 -0400 (Mon, 16 Oct 2023) EllapsedTime: 20.3 seconds RetCode: 0 Status: OK PackageFile: MatrixGenerics_1.12.3.zip PackageFileSize: 418.6 KiB