Package: MassArray Version: 1.52.0 Command: rm -rf MassArray.buildbin-libdir && mkdir MassArray.buildbin-libdir && /Users/biocbuild/BBS/utils/build-universal.sh MassArray_1.52.0.tar.gz /Library/Frameworks/R.framework/Resources/bin/R MassArray.buildbin-libdir StartedAt: 2023-10-16 09:39:52 -0400 (Mon, 16 Oct 2023) EndedAt: 2023-10-16 09:40:14 -0400 (Mon, 16 Oct 2023) EllapsedTime: 21.6 seconds RetCode: 0 Status: OK PackageFile: MassArray_1.52.0.tgz PackageFileSize: 650.3 KiB