Package: MWASTools Version: 1.24.0 Command: /Library/Frameworks/R.framework/Resources/bin/R CMD INSTALL MWASTools StartedAt: 2023-10-15 16:02:10 -0400 (Sun, 15 Oct 2023) EndedAt: 2023-10-15 16:03:41 -0400 (Sun, 15 Oct 2023) EllapsedTime: 91.8 seconds RetCode: 0 Status: OK