Package: MWASTools Version: 1.24.0 Command: /Library/Frameworks/R.framework/Resources/bin/R CMD check --install=check:MWASTools.install-out.txt --library=/Library/Frameworks/R.framework/Resources/library --no-vignettes --timings MWASTools_1.24.0.tar.gz StartedAt: 2023-10-16 04:31:47 -0400 (Mon, 16 Oct 2023) EndedAt: 2023-10-16 04:40:37 -0400 (Mon, 16 Oct 2023) EllapsedTime: 529.8 seconds RetCode: 0 Status: OK CheckDir: MWASTools.Rcheck Warnings: 0