Package: MSstatsConvert Version: 1.10.5 Command: F:\biocbuild\bbs-3.17-bioc\R\bin\R.exe CMD INSTALL MSstatsConvert StartedAt: 2023-10-15 15:52:51 -0400 (Sun, 15 Oct 2023) EndedAt: 2023-10-15 15:53:05 -0400 (Sun, 15 Oct 2023) EllapsedTime: 13.3 seconds RetCode: 0 Status: OK