Package: MMUPHin Version: 1.14.0 Command: /home/biocbuild/bbs-3.17-bioc/R/bin/R CMD check --install=check:MMUPHin.install-out.txt --library=/home/biocbuild/bbs-3.17-bioc/R/site-library --timings MMUPHin_1.14.0.tar.gz StartedAt: 2023-10-15 22:56:54 -0400 (Sun, 15 Oct 2023) EndedAt: 2023-10-15 22:59:09 -0400 (Sun, 15 Oct 2023) EllapsedTime: 134.7 seconds RetCode: 0 Status: OK CheckDir: MMUPHin.Rcheck Warnings: 0