Package: MMAPPR2 Version: 1.14.0 Command: /home/biocbuild/bbs-3.17-bioc/R/bin/R CMD check --install=check:MMAPPR2.install-out.txt --library=/home/biocbuild/bbs-3.17-bioc/R/site-library --timings MMAPPR2_1.14.0.tar.gz StartedAt: 2023-10-15 22:56:26 -0400 (Sun, 15 Oct 2023) EndedAt: 2023-10-15 23:02:05 -0400 (Sun, 15 Oct 2023) EllapsedTime: 339.6 seconds RetCode: 0 Status: OK CheckDir: MMAPPR2.Rcheck Warnings: 0