Package: MEIGOR Version: 1.33.0 Command: rm -rf MEIGOR.buildbin-libdir && mkdir MEIGOR.buildbin-libdir && F:\biocbuild\bbs-3.17-bioc\R\bin\R.exe CMD INSTALL --build --library=MEIGOR.buildbin-libdir MEIGOR_1.33.0.tar.gz StartedAt: 2023-03-15 08:33:47 -0400 (Wed, 15 Mar 2023) EndedAt: 2023-03-15 08:34:04 -0400 (Wed, 15 Mar 2023) EllapsedTime: 16.9 seconds RetCode: 0 Status: OK PackageFile: MEIGOR_1.33.0.zip PackageFileSize: 968.3 KiB