Package: MEB Version: 1.14.0 Command: /home/biocbuild/bbs-3.17-bioc/R/bin/R CMD check --install=check:MEB.install-out.txt --library=/home/biocbuild/bbs-3.17-bioc/R/site-library --timings MEB_1.14.0.tar.gz StartedAt: 2023-10-15 22:33:12 -0400 (Sun, 15 Oct 2023) EndedAt: 2023-10-15 22:36:39 -0400 (Sun, 15 Oct 2023) EllapsedTime: 206.4 seconds RetCode: 0 Status: OK CheckDir: MEB.Rcheck Warnings: 0