Package: MEB Version: 1.14.0 Command: /home/biocbuild/bbs-3.17-bioc/R/bin/R CMD build --keep-empty-dirs --no-resave-data MEB StartedAt: 2023-10-15 17:20:22 -0400 (Sun, 15 Oct 2023) EndedAt: 2023-10-15 17:21:06 -0400 (Sun, 15 Oct 2023) EllapsedTime: 44.7 seconds RetCode: 0 Status: OK PackageFile: MEB_1.14.0.tar.gz PackageFileSize: 1.179 MiB