Package: MEB Version: 1.14.0 Command: /Library/Frameworks/R.framework/Resources/bin/R CMD INSTALL MEB StartedAt: 2023-10-15 16:18:27 -0400 (Sun, 15 Oct 2023) EndedAt: 2023-10-15 16:19:55 -0400 (Sun, 15 Oct 2023) EllapsedTime: 88.3 seconds RetCode: 0 Status: OK