Package: MEB Version: 1.14.0 Command: /Library/Frameworks/R.framework/Resources/bin/R CMD build --keep-empty-dirs --no-resave-data MEB StartedAt: 2023-10-15 19:18:44 -0400 (Sun, 15 Oct 2023) EndedAt: 2023-10-15 19:20:23 -0400 (Sun, 15 Oct 2023) EllapsedTime: 99.5 seconds RetCode: 0 Status: OK PackageFile: MEB_1.14.0.tar.gz PackageFileSize: 1.179 MiB