Package: MEAL Version: 1.30.0 Command: /home/biocbuild/bbs-3.17-bioc/R/bin/R CMD check --install=check:MEAL.install-out.txt --library=/home/biocbuild/bbs-3.17-bioc/R/site-library --timings MEAL_1.30.0.tar.gz StartedAt: 2023-10-15 22:32:50 -0400 (Sun, 15 Oct 2023) EndedAt: 2023-10-15 22:44:41 -0400 (Sun, 15 Oct 2023) EllapsedTime: 711.1 seconds RetCode: 0 Status: WARNINGS CheckDir: MEAL.Rcheck Warnings: 3