Package: MEAL Version: 1.30.0 Command: /home/biocbuild/bbs-3.17-bioc/R/bin/R CMD build --keep-empty-dirs --no-resave-data MEAL StartedAt: 2023-10-15 17:20:12 -0400 (Sun, 15 Oct 2023) EndedAt: 2023-10-15 17:26:13 -0400 (Sun, 15 Oct 2023) EllapsedTime: 361.7 seconds RetCode: 0 Status: OK PackageFile: MEAL_1.30.0.tar.gz PackageFileSize: 1.911 MiB