Package: MEAL Version: 1.30.0 Command: /Library/Frameworks/R.framework/Resources/bin/R CMD INSTALL MEAL StartedAt: 2023-10-15 16:34:37 -0400 (Sun, 15 Oct 2023) EndedAt: 2023-10-15 16:36:20 -0400 (Sun, 15 Oct 2023) EllapsedTime: 102.8 seconds RetCode: 0 Status: OK