Package: MEAL Version: 1.30.0 Command: rm -rf MEAL.buildbin-libdir && mkdir MEAL.buildbin-libdir && /Users/biocbuild/BBS/utils/build-universal.sh MEAL_1.30.0.tar.gz /Library/Frameworks/R.framework/Resources/bin/R MEAL.buildbin-libdir StartedAt: 2023-10-16 09:40:27 -0400 (Mon, 16 Oct 2023) EndedAt: 2023-10-16 09:43:05 -0400 (Mon, 16 Oct 2023) EllapsedTime: 158.1 seconds RetCode: 0 Status: OK PackageFile: MEAL_1.30.0.tgz PackageFileSize: 2.035 MiB