Package: MBCB Version: 1.54.0 Command: /home/biocbuild/bbs-3.17-bioc/R/bin/R CMD build --keep-empty-dirs --no-resave-data MBCB StartedAt: 2023-10-15 17:19:16 -0400 (Sun, 15 Oct 2023) EndedAt: 2023-10-15 17:19:22 -0400 (Sun, 15 Oct 2023) EllapsedTime: 6.0 seconds RetCode: 0 Status: OK PackageFile: MBCB_1.54.0.tar.gz PackageFileSize: 317.2 KiB