Package: MAGeCKFlute Version: 2.4.0 Command: chmod a+r MAGeCKFlute -R && F:\biocbuild\bbs-3.17-bioc\R\bin\R.exe CMD build --keep-empty-dirs --no-resave-data MAGeCKFlute StartedAt: 2023-10-15 20:08:51 -0400 (Sun, 15 Oct 2023) EndedAt: 2023-10-15 20:14:03 -0400 (Sun, 15 Oct 2023) EllapsedTime: 312.1 seconds RetCode: 0 Status: OK PackageFile: MAGeCKFlute_2.4.0.tar.gz PackageFileSize: 17.69 MiB