Package: LowMACA Version: 1.30.0 Command: chmod a+r LowMACA -R && F:\biocbuild\bbs-3.17-bioc\R\bin\R.exe CMD build --keep-empty-dirs --no-resave-data LowMACA StartedAt: 2023-10-15 20:07:04 -0400 (Sun, 15 Oct 2023) EndedAt: 2023-10-15 20:11:41 -0400 (Sun, 15 Oct 2023) EllapsedTime: 276.6 seconds RetCode: 0 Status: OK PackageFile: LowMACA_1.30.0.tar.gz PackageFileSize: 128.2 KiB