Package: LoomExperiment Version: 1.18.0 Command: /home/biocbuild/bbs-3.17-bioc/R/bin/R CMD INSTALL LoomExperiment StartedAt: 2023-10-15 15:12:21 -0400 (Sun, 15 Oct 2023) EndedAt: 2023-10-15 15:12:47 -0400 (Sun, 15 Oct 2023) EllapsedTime: 26.0 seconds RetCode: 0 Status: OK