Package: LoomExperiment Version: 1.18.0 Command: /Library/Frameworks/R.framework/Resources/bin/R CMD build --keep-empty-dirs --no-resave-data LoomExperiment StartedAt: 2023-10-15 19:11:02 -0400 (Sun, 15 Oct 2023) EndedAt: 2023-10-15 19:12:38 -0400 (Sun, 15 Oct 2023) EllapsedTime: 96.5 seconds RetCode: 0 Status: OK PackageFile: LoomExperiment_1.18.0.tar.gz PackageFileSize: 252.9 KiB