Package: Linnorm Version: 2.24.1 Command: rm -rf Linnorm.buildbin-libdir && mkdir Linnorm.buildbin-libdir && /Users/biocbuild/BBS/utils/build-universal.sh Linnorm_2.24.1.tar.gz /Library/Frameworks/R.framework/Resources/bin/R Linnorm.buildbin-libdir StartedAt: 2023-10-16 09:37:55 -0400 (Mon, 16 Oct 2023) EndedAt: 2023-10-16 09:39:23 -0400 (Mon, 16 Oct 2023) EllapsedTime: 87.2 seconds RetCode: 0 Status: OK PackageFile: Linnorm_2.24.1.tgz PackageFileSize: 4.289 MiB