Package: LPE Version: 1.74.0 Command: /home/biocbuild/bbs-3.17-bioc/R/bin/R CMD check --install=check:LPE.install-out.txt --library=/home/biocbuild/bbs-3.17-bioc/R/site-library --timings LPE_1.74.0.tar.gz StartedAt: 2023-10-15 22:24:22 -0400 (Sun, 15 Oct 2023) EndedAt: 2023-10-15 22:24:48 -0400 (Sun, 15 Oct 2023) EllapsedTime: 25.7 seconds RetCode: 0 Status: OK CheckDir: LPE.Rcheck Warnings: 0