Package: LBE Version: 1.68.0 Command: F:\biocbuild\bbs-3.17-bioc\R\bin\R.exe CMD check --no-multiarch --install=check:LBE.install-out.txt --library=F:\biocbuild\bbs-3.17-bioc\R\library --no-vignettes --timings LBE_1.68.0.tar.gz StartedAt: 2023-10-16 03:29:13 -0400 (Mon, 16 Oct 2023) EndedAt: 2023-10-16 03:29:37 -0400 (Mon, 16 Oct 2023) EllapsedTime: 24.0 seconds RetCode: 0 Status: OK CheckDir: LBE.Rcheck Warnings: 0