Package: IntramiRExploreR Version: 1.22.0 Command: F:\biocbuild\bbs-3.17-bioc\R\bin\R.exe CMD INSTALL IntramiRExploreR StartedAt: 2023-10-15 16:03:52 -0400 (Sun, 15 Oct 2023) EndedAt: 2023-10-15 16:04:11 -0400 (Sun, 15 Oct 2023) EllapsedTime: 19.1 seconds RetCode: 0 Status: OK