Package: InterCellar Version: 2.6.0 Command: /Library/Frameworks/R.framework/Resources/bin/R CMD INSTALL InterCellar StartedAt: 2023-10-15 16:24:12 -0400 (Sun, 15 Oct 2023) EndedAt: 2023-10-15 16:25:50 -0400 (Sun, 15 Oct 2023) EllapsedTime: 97.9 seconds RetCode: 0 Status: OK