Package: ISAnalytics Version: 1.10.2 Command: /home/biocbuild/bbs-3.17-bioc/R/bin/R CMD check --install=check:ISAnalytics.install-out.txt --library=/home/biocbuild/bbs-3.17-bioc/R/site-library --timings ISAnalytics_1.10.2.tar.gz StartedAt: 2023-10-15 22:15:14 -0400 (Sun, 15 Oct 2023) EndedAt: 2023-10-15 22:24:21 -0400 (Sun, 15 Oct 2023) EllapsedTime: 547.5 seconds RetCode: 0 Status: OK CheckDir: ISAnalytics.Rcheck Warnings: 0