Package: IRISFGM Version: 1.8.0 Command: /home/biocbuild/bbs-3.17-bioc/R/bin/R CMD INSTALL IRISFGM StartedAt: 2023-10-15 15:45:22 -0400 (Sun, 15 Oct 2023) EndedAt: 2023-10-15 15:46:36 -0400 (Sun, 15 Oct 2023) EllapsedTime: 73.4 seconds RetCode: 0 Status: OK