Package: IPO Version: 1.26.0 Command: /home/biocbuild/bbs-3.17-bioc/R/bin/R CMD INSTALL IPO StartedAt: 2023-10-15 15:40:15 -0400 (Sun, 15 Oct 2023) EndedAt: 2023-10-15 15:40:52 -0400 (Sun, 15 Oct 2023) EllapsedTime: 36.7 seconds RetCode: 0 Status: OK