Package: INDEED Version: 2.14.0 Command: /home/biocbuild/bbs-3.17-bioc/R/bin/R CMD check --install=check:INDEED.install-out.txt --library=/home/biocbuild/bbs-3.17-bioc/R/site-library --timings INDEED_2.14.0.tar.gz StartedAt: 2023-10-15 22:08:49 -0400 (Sun, 15 Oct 2023) EndedAt: 2023-10-15 22:09:43 -0400 (Sun, 15 Oct 2023) EllapsedTime: 54.4 seconds RetCode: 0 Status: OK CheckDir: INDEED.Rcheck Warnings: 0