Package: HubPub Version: 1.8.1 Command: /home/biocbuild/bbs-3.17-bioc/R/bin/R CMD check --install=check:HubPub.install-out.txt --library=/home/biocbuild/bbs-3.17-bioc/R/site-library --timings HubPub_1.8.1.tar.gz StartedAt: 2023-10-15 22:04:20 -0400 (Sun, 15 Oct 2023) EndedAt: 2023-10-15 22:06:33 -0400 (Sun, 15 Oct 2023) EllapsedTime: 132.7 seconds RetCode: 0 Status: OK CheckDir: HubPub.Rcheck Warnings: 0