Package: HubPub Version: 1.8.1 Command: /home/biocbuild/bbs-3.17-bioc/R/bin/R CMD build --keep-empty-dirs --no-resave-data HubPub StartedAt: 2023-10-15 17:07:43 -0400 (Sun, 15 Oct 2023) EndedAt: 2023-10-15 17:08:18 -0400 (Sun, 15 Oct 2023) EllapsedTime: 34.9 seconds RetCode: 0 Status: OK PackageFile: HubPub_1.8.1.tar.gz PackageFileSize: 1.3 MiB